BEGIN:VCALENDAR
VERSION:2.0
PRODID:-//The Irish Fish Producers Organisation - ECPv6.15.17.1//NONSGML v1.0//EN
CALSCALE:GREGORIAN
METHOD:PUBLISH
X-WR-CALNAME:The Irish Fish Producers Organisation
X-ORIGINAL-URL:https://ifpo.ie
X-WR-CALDESC:Events for The Irish Fish Producers Organisation
REFRESH-INTERVAL;VALUE=DURATION:PT1H
X-Robots-Tag:noindex
X-PUBLISHED-TTL:PT1H
BEGIN:VTIMEZONE
TZID:UTC
BEGIN:STANDARD
TZOFFSETFROM:+0000
TZOFFSETTO:+0000
TZNAME:UTC
DTSTART:20210101T000000
END:STANDARD
END:VTIMEZONE
BEGIN:VEVENT
DTSTART;VALUE=DATE:20221123
DTEND;VALUE=DATE:20221124
DTSTAMP:20260419T180052
CREATED:20221115T101319Z
LAST-MODIFIED:20221115T101922Z
UID:547-1669161600-1669247999@ifpo.ie
SUMMARY:4th Offshore Seafood Working Group Meeting Wexford
DESCRIPTION:
URL:https://ifpo.ie/event/4th-offshore-seafood-working-group-meeting-wexford/
CATEGORIES:Conference
END:VEVENT
BEGIN:VEVENT
DTSTART;VALUE=DATE:20221118
DTEND;VALUE=DATE:20221119
DTSTAMP:20260419T180052
CREATED:20221115T101228Z
LAST-MODIFIED:20221115T101911Z
UID:545-1668729600-1668815999@ifpo.ie
SUMMARY:Quota Management Advisory Committee (QMAC)
DESCRIPTION:
URL:https://ifpo.ie/event/quota-management-advisory-committee-qmac/
CATEGORIES:Conference
END:VEVENT
BEGIN:VEVENT
DTSTART;VALUE=DATE:20221115
DTEND;VALUE=DATE:20221116
DTSTAMP:20260419T180052
CREATED:20220920T191521Z
LAST-MODIFIED:20221115T101833Z
UID:422-1668470400-1668556799@ifpo.ie
SUMMARY:Workshop on Review of the Marine Strategy Framework Directive  (DG Mare)
DESCRIPTION:
URL:https://ifpo.ie/event/placeholder-event-1/
CATEGORIES:Conference
END:VEVENT
END:VCALENDAR